BEGIN:VCALENDAR
CALSCALE:GREGORIAN
PRODID:-//Ben Fortuna//iCal4j 1.0//EN
VERSION:2.0
BEGIN:VEVENT
DTSTAMP:20260122T210010Z
DTSTART:20260123T113000
DTEND:20260123T133000
SUMMARY:Extending the Energy Efficiency Modernization Act\n\nRate-payer P
 erspective\n\nAlek Antczak\, Director of Efficiency and Energy Resources
  Division\, Public Service Department - Room 32
TZID:America/New_York
UID:20260122T210031Z-uidGen@richgoldman-357e73
END:VEVENT
BEGIN:VALARM
TRIGGER:-PT15M
ACTION:DISPLAY
DESCRIPTION:Extending the Energy Efficiency Modernization Act\n\nRate-pay
 er Perspective\n\nAlek Antczak\, Director of Efficiency and Energy Resou
 rces Division\, Public Service Department - Room 32
END:VALARM
END:VCALENDAR
