BEGIN:VCALENDAR
CALSCALE:GREGORIAN
PRODID:-//Ben Fortuna//iCal4j 1.0//EN
VERSION:2.0
BEGIN:VEVENT
DTSTAMP:20260121T070010Z
DTSTART:20260123T104500
DTEND:20260123T124500
SUMMARY:Human Rights Commission\n\nBig Hartman\, Executive Director & Gen
 eral Counsel\, Vermont Human Rights Commission - Room 31
TZID:America/New_York
UID:20260121T070016Z-uidGen@richgoldman-357e73
END:VEVENT
BEGIN:VALARM
TRIGGER:-PT15M
ACTION:DISPLAY
DESCRIPTION:Human Rights Commission\n\nBig Hartman\, Executive Director &
  General Counsel\, Vermont Human Rights Commission - Room 31
END:VALARM
END:VCALENDAR
