BEGIN:VCALENDAR
CALSCALE:GREGORIAN
PRODID:-//Ben Fortuna//iCal4j 1.0//EN
VERSION:2.0
BEGIN:VEVENT
DTSTAMP:20260123T170011Z
DTSTART:20260123T103500
DTEND:20260123T123500
SUMMARY:Governor’s Proposed FY2027 Budget\n\nDepartment for Children and 
 Families budget\n\nSandi Hoffman\, Interim Commissioner\, Department for
  Children and Families\n\nMegan Smeaton\, Financial Director\, Departmen
 t for Children and Families\n\nJanet McLaughlin\, Deputy Commissioner\, 
 Child Development Division\, Department for Children and Families\n\nAry
 ka Radke\, Deputy Commissioner\, Family Services Division\, Department f
 or Children and Families - Room 46
TZID:America/New_York
UID:20260123T170026Z-uidGen@richgoldman-357e73
END:VEVENT
BEGIN:VALARM
TRIGGER:-PT15M
ACTION:DISPLAY
DESCRIPTION:Governor’s Proposed FY2027 Budget\n\nDepartment for Children 
 and Families budget\n\nSandi Hoffman\, Interim Commissioner\, Department
  for Children and Families\n\nMegan Smeaton\, Financial Director\, Depar
 tment for Children and Families\n\nJanet McLaughlin\, Deputy Commissione
 r\, Child Development Division\, Department for Children and Families\n\
 nAryka Radke\, Deputy Commissioner\, Family Services Division\, Departme
 nt for Children and Families - Room 46
END:VALARM
END:VCALENDAR
