BEGIN:VCALENDAR
CALSCALE:GREGORIAN
PRODID:-//Ben Fortuna//iCal4j 1.0//EN
VERSION:2.0
BEGIN:VEVENT
DTSTAMP:20260123T160011Z
DTSTART:20260123T103500
DTEND:20260123T123500
SUMMARY:H. 623 - An act relating to licensure of massage therapists\n\nIn
 troduction\n\nRep. Conor Casey\, Sponsor\, House Committee on Institutio
 ns and Corrections - Room M106
TZID:America/New_York
UID:20260123T160039Z-uidGen@richgoldman-357e73
END:VEVENT
BEGIN:VALARM
TRIGGER:-PT15M
ACTION:DISPLAY
DESCRIPTION:H. 623 - An act relating to licensure of massage therapists\n
 \nIntroduction\n\nRep. Conor Casey\, Sponsor\, House Committee on Instit
 utions and Corrections - Room M106
END:VALARM
END:VCALENDAR
