BEGIN:VCALENDAR
CALSCALE:GREGORIAN
PRODID:-//Ben Fortuna//iCal4j 1.0//EN
VERSION:2.0
BEGIN:VEVENT
DTSTAMP:20260123T170011Z
DTSTART:20260123T110800
DTEND:20260123T130800
SUMMARY:Agency of Transportation FY27 Budget Overview\n\nFleet Services B
 udget\n\nDavid Thurber\, Supervisor\, Fleet Operations\, Agency of Trans
 portation\n\nAshley Atkins\, Deputy Director\, District Maintenance and 
 Fleet Division\, Agency of Transportation - Room 43
TZID:America/New_York
UID:20260123T170030Z-uidGen@richgoldman-357e73
END:VEVENT
BEGIN:VALARM
TRIGGER:-PT15M
ACTION:DISPLAY
DESCRIPTION:Agency of Transportation FY27 Budget Overview\n\nFleet Servic
 es Budget\n\nDavid Thurber\, Supervisor\, Fleet Operations\, Agency of T
 ransportation\n\nAshley Atkins\, Deputy Director\, District Maintenance 
 and Fleet Division\, Agency of Transportation - Room 43
END:VALARM
END:VCALENDAR
