BEGIN:VCALENDAR
CALSCALE:GREGORIAN
PRODID:-//Ben Fortuna//iCal4j 1.0//EN
VERSION:2.0
BEGIN:VEVENT
DTSTAMP:20260123T170011Z
DTSTART:20260123T105500
DTEND:20260123T125500
SUMMARY:FY26 Budget Adjustment Act\n\nLanguage\n\nGrady Nixon\, Fiscal Ed
 itor\, Joint Fiscal Office\n\nEmily Byrne\, Deputy Fiscal Officer\, Join
 t Fiscal Office\n\nNolan Langweil\, Principal Fiscal Analyst\, Joint Fis
 cal Office - Room 9
TZID:America/New_York
UID:20260123T170027Z-uidGen@richgoldman-357e73
END:VEVENT
BEGIN:VALARM
TRIGGER:-PT15M
ACTION:DISPLAY
DESCRIPTION:FY26 Budget Adjustment Act\n\nLanguage\n\nGrady Nixon\, Fisca
 l Editor\, Joint Fiscal Office\n\nEmily Byrne\, Deputy Fiscal Officer\, 
 Joint Fiscal Office\n\nNolan Langweil\, Principal Fiscal Analyst\, Joint
  Fiscal Office - Room 9
END:VALARM
END:VCALENDAR
