BEGIN:VCALENDAR
CALSCALE:GREGORIAN
PRODID:-//Ben Fortuna//iCal4j 1.0//EN
VERSION:2.0
BEGIN:VEVENT
DTSTAMP:20260123T160011Z
DTSTART:20260123T104500
DTEND:20260123T124500
SUMMARY:H. 588 - An act relating to professions and occupations regulated
  by the Office of Professional Regulation\n\nWitness testimony\n\nPatric
 k Gallivan\, Executive Director\, Vermont State Dental Society - Zoom\n\
 nLauren Hibbert\, Deputy Secretary of State\, Secretary of State's Offic
 e\n\nJennifer Colin\, Director\, Office of Professional Regulation\n\nKr
 is Bowditch\, Deputy Chief Investigator\, Office of Professional Regulat
 ion\, Secretary of State's Office\n\nKatherine Bramhall\, Owner\, Gentle
  Landing Birth Center\n\nCarrie Phillips\, Pharmacy Executive\, Office o
 f Professional Regulation\n\nDerek Everett\, Chief Inspector\, Office of
  Professional Regulation\, Secretary of State's Office\n\nJessica Schifa
 no\, Policy Director\, Department of Health - Room M106
TZID:America/New_York
UID:20260123T160041Z-uidGen@richgoldman-357e73
END:VEVENT
BEGIN:VALARM
TRIGGER:-PT15M
ACTION:DISPLAY
DESCRIPTION:H. 588 - An act relating to professions and occupations regul
 ated by the Office of Professional Regulation\n\nWitness testimony\n\nPa
 trick Gallivan\, Executive Director\, Vermont State Dental Society - Zoo
 m\n\nLauren Hibbert\, Deputy Secretary of State\, Secretary of State's O
 ffice\n\nJennifer Colin\, Director\, Office of Professional Regulation\n
 \nKris Bowditch\, Deputy Chief Investigator\, Office of Professional Reg
 ulation\, Secretary of State's Office\n\nKatherine Bramhall\, Owner\, Ge
 ntle Landing Birth Center\n\nCarrie Phillips\, Pharmacy Executive\, Offi
 ce of Professional Regulation\n\nDerek Everett\, Chief Inspector\, Offic
 e of Professional Regulation\, Secretary of State's Office\n\nJessica Sc
 hifano\, Policy Director\, Department of Health - Room M106
END:VALARM
END:VCALENDAR
