BEGIN:VCALENDAR
CALSCALE:GREGORIAN
PRODID:-//Ben Fortuna//iCal4j 1.0//EN
VERSION:2.0
BEGIN:VEVENT
DTSTAMP:20260122T200010Z
DTSTART:20260123T111500
DTEND:20260123T131500
SUMMARY:First-time Home Buyer Credit\n\nMaura Collins\, Executive Directo
 r\, Vermont Housing Finance Agency - Room 45
TZID:America/New_York
UID:20260122T200116Z-uidGen@richgoldman-357e73
END:VEVENT
BEGIN:VALARM
TRIGGER:-PT15M
ACTION:DISPLAY
DESCRIPTION:First-time Home Buyer Credit\n\nMaura Collins\, Executive Dir
 ector\, Vermont Housing Finance Agency - Room 45
END:VALARM
END:VCALENDAR
