BEGIN:VCALENDAR
CALSCALE:GREGORIAN
PRODID:-//Ben Fortuna//iCal4j 1.0//EN
VERSION:2.0
BEGIN:VEVENT
DTSTAMP:20260120T200010Z
DTSTART:20260123T113000
DTEND:20260123T133000
SUMMARY:Transportation Update\n\nUpdate and Discussion\n\nWilliam Smith\,
  Vermont Truck and Bus Association - Room 43
TZID:America/New_York
UID:20260120T200108Z-uidGen@richgoldman-357e73
END:VEVENT
BEGIN:VALARM
TRIGGER:-PT15M
ACTION:DISPLAY
DESCRIPTION:Transportation Update\n\nUpdate and Discussion\n\nWilliam Smi
 th\, Vermont Truck and Bus Association - Room 43
END:VALARM
END:VCALENDAR
