BEGIN:VCALENDAR
CALSCALE:GREGORIAN
PRODID:-//Ben Fortuna//iCal4j 1.0//EN
VERSION:2.0
BEGIN:VEVENT
DTSTAMP:20260122T160010Z
DTSTART:20260123T111500
DTEND:20260123T131500
SUMMARY:Vermont Housing and Conservation Board\n\nVHCB Update\n\nGus Seel
 ig\, Executive Director\, Vermont Housing & Conservation Board\n\nStacy 
 Cibula\, Associate Conservation Director\, Vermont Housing & Conservatio
 n Board\n\nLiz Gleason\, Farm and Forest Viability Program Director\, Ve
 rmont Housing & Conservation Board - Room 49
TZID:America/New_York
UID:20260122T160149Z-uidGen@richgoldman-357e73
END:VEVENT
BEGIN:VALARM
TRIGGER:-PT15M
ACTION:DISPLAY
DESCRIPTION:Vermont Housing and Conservation Board\n\nVHCB Update\n\nGus 
 Seelig\, Executive Director\, Vermont Housing & Conservation Board\n\nSt
 acy Cibula\, Associate Conservation Director\, Vermont Housing & Conserv
 ation Board\n\nLiz Gleason\, Farm and Forest Viability Program Director\
 , Vermont Housing & Conservation Board - Room 49
END:VALARM
END:VCALENDAR
