BEGIN:VCALENDAR
CALSCALE:GREGORIAN
PRODID:-//Ben Fortuna//iCal4j 1.0//EN
VERSION:2.0
BEGIN:VEVENT
DTSTAMP:20260123T170011Z
DTSTART:20260123T112500
DTEND:20260123T132500
SUMMARY:H. 611 - An act relating to miscellaneous provisions affecting th
 e Department of Vermont Health Access\n\nMarkup and Testimony\n\nJennife
 r Carbee\, Deputy Chief Counsel\, Office of Legislative Counsel\n\nAlex 
 McCracken\, Director of Communications and Legislative Affairs\, Departm
 ent of Vermont Health Access (DVHA) - Room 42
TZID:America/New_York
UID:20260123T170033Z-uidGen@richgoldman-357e73
END:VEVENT
BEGIN:VALARM
TRIGGER:-PT15M
ACTION:DISPLAY
DESCRIPTION:H. 611 - An act relating to miscellaneous provisions affectin
 g the Department of Vermont Health Access\n\nMarkup and Testimony\n\nJen
 nifer Carbee\, Deputy Chief Counsel\, Office of Legislative Counsel\n\nA
 lex McCracken\, Director of Communications and Legislative Affairs\, Dep
 artment of Vermont Health Access (DVHA) - Room 42
END:VALARM
END:VCALENDAR
