BEGIN:VCALENDAR
CALSCALE:GREGORIAN
PRODID:-//Ben Fortuna//iCal4j 1.0//EN
VERSION:2.0
BEGIN:VEVENT
DTSTAMP:20260123T180011Z
DTSTART:20260123T113500
DTEND:20260123T133500
SUMMARY:H. 548 - An act relating to adding a mediator position to the off
 ice of the Vermont Labor Relations Board\n\nWalkthrough\n\nSophie Zdatny
 \, Legislative Counsel\, Office of Legislative Counsel - Room 31
TZID:America/New_York
UID:20260123T180014Z-uidGen@richgoldman-357e73
END:VEVENT
BEGIN:VALARM
TRIGGER:-PT15M
ACTION:DISPLAY
DESCRIPTION:H. 548 - An act relating to adding a mediator position to the
  office of the Vermont Labor Relations Board\n\nWalkthrough\n\nSophie Zd
 atny\, Legislative Counsel\, Office of Legislative Counsel - Room 31
END:VALARM
END:VCALENDAR
