BEGIN:VCALENDAR
CALSCALE:GREGORIAN
PRODID:-//Ben Fortuna//iCal4j 1.0//EN
VERSION:2.0
BEGIN:VEVENT
DTSTAMP:20260123T150028Z
DTSTART:20260123T113000
DTEND:20260123T133000
SUMMARY:H. 516 - An act relating to approval of amendments to the charter
  of the Town of Essex\n\nCommittee Discussion and possible vote\n\nGreg 
 Duggan\, Town Manager\, Essex - Zoom - Room M106
TZID:America/New_York
UID:20260123T150039Z-uidGen@richgoldman-357e73
END:VEVENT
BEGIN:VALARM
TRIGGER:-PT15M
ACTION:DISPLAY
DESCRIPTION:H. 516 - An act relating to approval of amendments to the cha
 rter of the Town of Essex\n\nCommittee Discussion and possible vote\n\nG
 reg Duggan\, Town Manager\, Essex - Zoom - Room M106
END:VALARM
END:VCALENDAR
