BEGIN:VCALENDAR
CALSCALE:GREGORIAN
PRODID:-//Ben Fortuna//iCal4j 1.0//EN
VERSION:2.0
BEGIN:VEVENT
DTSTAMP:20260122T160010Z
DTSTART:20260123T130000
DTEND:20260123T150000
SUMMARY:Child Welfare Information System\n\nUpdate on system development 
 and recent system outages\n\nJoint Hearing with House Human Services. Th
 is hearing will be held in Room 11 and will be livestreamed on the House
  Energy and Digital Infrastructure Youtube Channel.\n\nAryka Radke\, Dep
 uty Commissioner\, Family Services Division\, Department for Children an
 d Families\n\nCarlie Thibault\, Quality Assurance Administrator\, Family
  Services Division\, Department for Children and Families\n\nMatthew Ber
 nstein\, Director\, Office of Child\, Youth and Family Advocate\n\nLaure
 n Higbee\, Deputy Advocate\, Office of Child\, Youth and Family Advocate
 \n\nAndrea DeLaBruere\, Deputy Secretary\, Agency of Digital Services - 
 Room 32
TZID:America/New_York
UID:20260122T160151Z-uidGen@richgoldman-357e73
END:VEVENT
BEGIN:VALARM
TRIGGER:-PT15M
ACTION:DISPLAY
DESCRIPTION:Child Welfare Information System\n\nUpdate on system developm
 ent and recent system outages\n\nJoint Hearing with House Human Services
 . This hearing will be held in Room 11 and will be livestreamed on the H
 ouse Energy and Digital Infrastructure Youtube Channel.\n\nAryka Radke\,
  Deputy Commissioner\, Family Services Division\, Department for Childre
 n and Families\n\nCarlie Thibault\, Quality Assurance Administrator\, Fa
 mily Services Division\, Department for Children and Families\n\nMatthew
  Bernstein\, Director\, Office of Child\, Youth and Family Advocate\n\nL
 auren Higbee\, Deputy Advocate\, Office of Child\, Youth and Family Advo
 cate\n\nAndrea DeLaBruere\, Deputy Secretary\, Agency of Digital Service
 s - Room 32
END:VALARM
END:VCALENDAR
