BEGIN:VCALENDAR
CALSCALE:GREGORIAN
PRODID:-//Ben Fortuna//iCal4j 1.0//EN
VERSION:2.0
BEGIN:VEVENT
DTSTAMP:20260122T020010Z
DTSTART:20260123T123000
DTEND:20260123T143000
SUMMARY:Capital Budget Adjustment\n\nSection 4 - Roadside Historic Site M
 arkers\n\nLaura Trieschmann\, State Historic Preservation Officer\, Depa
 rtment of Housing and Community Development - Room 34
TZID:America/New_York
UID:20260122T020020Z-uidGen@richgoldman-357e73
END:VEVENT
BEGIN:VALARM
TRIGGER:-PT15M
ACTION:DISPLAY
DESCRIPTION:Capital Budget Adjustment\n\nSection 4 - Roadside Historic Si
 te Markers\n\nLaura Trieschmann\, State Historic Preservation Officer\, 
 Department of Housing and Community Development - Room 34
END:VALARM
END:VCALENDAR
