BEGIN:VCALENDAR
CALSCALE:GREGORIAN
PRODID:-//Ben Fortuna//iCal4j 1.0//EN
VERSION:2.0
BEGIN:VEVENT
DTSTAMP:20260123T180011Z
DTSTART:20260123T130000
DTEND:20260123T150000
SUMMARY:H. 270 - An act relating to confidentiality for peer support coun
 seling among emergency service providers\n\nVote\n\nKatie McLinn\, Legis
 lative Counsel\, Office of Legislative Counsel - Room 42
TZID:America/New_York
UID:20260123T180018Z-uidGen@richgoldman-357e73
END:VEVENT
BEGIN:VALARM
TRIGGER:-PT15M
ACTION:DISPLAY
DESCRIPTION:H. 270 - An act relating to confidentiality for peer support 
 counseling among emergency service providers\n\nVote\n\nKatie McLinn\, L
 egislative Counsel\, Office of Legislative Counsel - Room 42
END:VALARM
END:VCALENDAR
