BEGIN:VCALENDAR
CALSCALE:GREGORIAN
PRODID:-//Ben Fortuna//iCal4j 1.0//EN
VERSION:2.0
BEGIN:VEVENT
DTSTAMP:20260123T150028Z
DTSTART:20260123T130000
DTEND:20260123T150000
SUMMARY:Vermont Agency of Agriculture\, Food & Markets\n\nVAEL Weights an
 d Measures Lab - background and updates\n\nMarc Paquette\, Chief\, Weigh
 ts and Measures\, Vermont Agency of Agriculture\, Food and Markets - Roo
 m 49
TZID:America/New_York
UID:20260123T150040Z-uidGen@richgoldman-357e73
END:VEVENT
BEGIN:VALARM
TRIGGER:-PT15M
ACTION:DISPLAY
DESCRIPTION:Vermont Agency of Agriculture\, Food & Markets\n\nVAEL Weight
 s and Measures Lab - background and updates\n\nMarc Paquette\, Chief\, W
 eights and Measures\, Vermont Agency of Agriculture\, Food and Markets -
  Room 49
END:VALARM
END:VCALENDAR
