BEGIN:VCALENDAR
CALSCALE:GREGORIAN
PRODID:-//Ben Fortuna//iCal4j 1.0//EN
VERSION:2.0
BEGIN:VEVENT
DTSTAMP:20260121T150010Z
DTSTART:20260123T130000
DTEND:20260123T150000
SUMMARY:Manufactured Housing\n\nBill Introduction and Walkthrough\n\nCame
 ron Wood\, Legislative Counsel\, Office of Legislative Counsel - Invited
 \n\nJon Gray\, Legislative Counsel\, Office of Legislative Counsel - Inv
 ited - Room 31
TZID:America/New_York
UID:20260121T150146Z-uidGen@richgoldman-357e73
END:VEVENT
BEGIN:VALARM
TRIGGER:-PT15M
ACTION:DISPLAY
DESCRIPTION:Manufactured Housing\n\nBill Introduction and Walkthrough\n\n
 Cameron Wood\, Legislative Counsel\, Office of Legislative Counsel - Inv
 ited\n\nJon Gray\, Legislative Counsel\, Office of Legislative Counsel -
  Invited - Room 31
END:VALARM
END:VCALENDAR
