BEGIN:VCALENDAR
CALSCALE:GREGORIAN
PRODID:-//Ben Fortuna//iCal4j 1.0//EN
VERSION:2.0
BEGIN:VEVENT
DTSTAMP:20260122T200010Z
DTSTART:20260123T130000
DTEND:20260123T150000
SUMMARY:H. 757 - An act relating to manufactured homes and limited equity
  cooperatives\n\nIntroduction and Walkthrough\n\nRep. Gayle Pezzo\, Spon
 sor\n\nCameron Wood\, Legislative Counsel\, Office of Legislative Counse
 l - Invited\n\nJon Gray\, Legislative Counsel\, Office of Legislative Co
 unsel - Invited - Room 31
TZID:America/New_York
UID:20260122T200119Z-uidGen@richgoldman-357e73
END:VEVENT
BEGIN:VALARM
TRIGGER:-PT15M
ACTION:DISPLAY
DESCRIPTION:H. 757 - An act relating to manufactured homes and limited eq
 uity cooperatives\n\nIntroduction and Walkthrough\n\nRep. Gayle Pezzo\, 
 Sponsor\n\nCameron Wood\, Legislative Counsel\, Office of Legislative Co
 unsel - Invited\n\nJon Gray\, Legislative Counsel\, Office of Legislativ
 e Counsel - Invited - Room 31
END:VALARM
END:VCALENDAR
