BEGIN:VCALENDAR
CALSCALE:GREGORIAN
PRODID:-//Ben Fortuna//iCal4j 1.0//EN
VERSION:2.0
BEGIN:VEVENT
DTSTAMP:20260121T170010Z
DTSTART:20260123T130000
DTEND:20260123T150000
SUMMARY:School District Mapping\n\nJamie Kinnarney\, Superintendent\, Whi
 te River Valley Supervisory Union\n\nLayne Millington\, Superintendent\,
  Two Rivers Supervisory Union\n\nSherry Sousa\, Superintendent\, Mountai
 n Views Supervisory Union\n\nRyan Heraty\, Superintendent\, Lamoille Sou
 th Supervisory Union - Room 28
TZID:America/New_York
UID:20260121T170051Z-uidGen@richgoldman-357e73
END:VEVENT
BEGIN:VALARM
TRIGGER:-PT15M
ACTION:DISPLAY
DESCRIPTION:School District Mapping\n\nJamie Kinnarney\, Superintendent\,
  White River Valley Supervisory Union\n\nLayne Millington\, Superintende
 nt\, Two Rivers Supervisory Union\n\nSherry Sousa\, Superintendent\, Mou
 ntain Views Supervisory Union\n\nRyan Heraty\, Superintendent\, Lamoille
  South Supervisory Union - Room 28
END:VALARM
END:VCALENDAR
