BEGIN:VCALENDAR
CALSCALE:GREGORIAN
PRODID:-//Ben Fortuna//iCal4j 1.0//EN
VERSION:2.0
BEGIN:VEVENT
DTSTAMP:20260121T200010Z
DTSTART:20260123T130000
DTEND:20260123T150000
SUMMARY:School District Mapping\n\nResponse to Agency of Education mappin
 g update\n\nJamie Kinnarney\, Superintendent\, White River Valley Superv
 isory Union\n\nLayne Millington\, Superintendent\, Two Rivers Supervisor
 y Union\n\nSherry Sousa\, Superintendent\, Mountain Views Supervisory Un
 ion\n\nRyan Heraty\, Superintendent\, Lamoille South Supervisory Union -
  Room 28
TZID:America/New_York
UID:20260121T200141Z-uidGen@richgoldman-357e73
END:VEVENT
BEGIN:VALARM
TRIGGER:-PT15M
ACTION:DISPLAY
DESCRIPTION:School District Mapping\n\nResponse to Agency of Education ma
 pping update\n\nJamie Kinnarney\, Superintendent\, White River Valley Su
 pervisory Union\n\nLayne Millington\, Superintendent\, Two Rivers Superv
 isory Union\n\nSherry Sousa\, Superintendent\, Mountain Views Supervisor
 y Union\n\nRyan Heraty\, Superintendent\, Lamoille South Supervisory Uni
 on - Room 28
END:VALARM
END:VCALENDAR
