BEGIN:VCALENDAR
CALSCALE:GREGORIAN
PRODID:-//Ben Fortuna//iCal4j 1.0//EN
VERSION:2.0
BEGIN:VEVENT
DTSTAMP:20260122T200010Z
DTSTART:20260123T130000
DTEND:20260123T150000
SUMMARY:Cannabis Control Board\n\nOverview and Priorities\n\nJames Pepper
 \, Chair\, Cannabis Control Board\n\nDave Silberman\, Director\, Vermont
  Cannabis Action Fund - Room 4
TZID:America/New_York
UID:20260122T200122Z-uidGen@richgoldman-357e73
END:VEVENT
BEGIN:VALARM
TRIGGER:-PT15M
ACTION:DISPLAY
DESCRIPTION:Cannabis Control Board\n\nOverview and Priorities\n\nJames Pe
 pper\, Chair\, Cannabis Control Board\n\nDave Silberman\, Director\, Ver
 mont Cannabis Action Fund - Room 4
END:VALARM
END:VCALENDAR
