BEGIN:VCALENDAR
CALSCALE:GREGORIAN
PRODID:-//Ben Fortuna//iCal4j 1.0//EN
VERSION:2.0
BEGIN:VEVENT
DTSTAMP:20260123T200009Z
DTSTART:20260123T130500
DTEND:20260123T150500
SUMMARY:Executive Order on AI\n\nWalk-through and Testimony on the Federa
 l Executive Order on AI Usage.\n\nRik Sehgal\, Legislative Counsel\, Off
 ice of Legislative Counsel\n\nTravis Hall\, Director for State Engagemen
 t\, Center for Democracy and Technology - Zoom\n\nRob Eleveld\, CEO & Co
 -Founder\, Transparency Coalition - Zoom - Room 35
TZID:America/New_York
UID:20260123T200013Z-uidGen@richgoldman-357e73
END:VEVENT
BEGIN:VALARM
TRIGGER:-PT15M
ACTION:DISPLAY
DESCRIPTION:Executive Order on AI\n\nWalk-through and Testimony on the Fe
 deral Executive Order on AI Usage.\n\nRik Sehgal\, Legislative Counsel\,
  Office of Legislative Counsel\n\nTravis Hall\, Director for State Engag
 ement\, Center for Democracy and Technology - Zoom\n\nRob Eleveld\, CEO 
 & Co-Founder\, Transparency Coalition - Zoom - Room 35
END:VALARM
END:VCALENDAR
