BEGIN:VCALENDAR
CALSCALE:GREGORIAN
PRODID:-//Ben Fortuna//iCal4j 1.0//EN
VERSION:2.0
BEGIN:VEVENT
DTSTAMP:20260123T200009Z
DTSTART:20260123T130500
DTEND:20260123T150500
SUMMARY:H. 757 - An act relating to manufactured homes and limited equity
  cooperatives\n\nIntroduction and Walkthrough\n\nRep. Gayle Pezzo\, Spon
 sor\n\nCameron Wood\, Legislative Counsel\, Office of Legislative Counse
 l\n\nJon Gray\, Legislative Counsel\, Office of Legislative Counsel\n\nM
 ichael O'Grady\, Deputy Chief Counsel\, Office of Legislative Counsel\n\
 nEllen Czajkowski\, Legislative Counsel\, Office of Legislative Counsel 
 - Room 31
TZID:America/New_York
UID:20260123T200015Z-uidGen@richgoldman-357e73
END:VEVENT
BEGIN:VALARM
TRIGGER:-PT15M
ACTION:DISPLAY
DESCRIPTION:H. 757 - An act relating to manufactured homes and limited eq
 uity cooperatives\n\nIntroduction and Walkthrough\n\nRep. Gayle Pezzo\, 
 Sponsor\n\nCameron Wood\, Legislative Counsel\, Office of Legislative Co
 unsel\n\nJon Gray\, Legislative Counsel\, Office of Legislative Counsel\
 n\nMichael O'Grady\, Deputy Chief Counsel\, Office of Legislative Counse
 l\n\nEllen Czajkowski\, Legislative Counsel\, Office of Legislative Coun
 sel - Room 31
END:VALARM
END:VCALENDAR
