BEGIN:VCALENDAR
CALSCALE:GREGORIAN
PRODID:-//Ben Fortuna//iCal4j 1.0//EN
VERSION:2.0
BEGIN:VEVENT
DTSTAMP:20260121T210010Z
DTSTART:20260123T130000
DTEND:20260123T150000
SUMMARY:H. 627 - An act relating to crime victims’ rights in forensic cas
 es\n\nWitness Testimony\n\nEmilie Perry\, Little Rivers Healthcare\n\nMa
 tthew Valerio\, Defender General\, Defender General's Office\n\nJudge Th
 omas Zonay\, Chief Superior Judge\, Vermont Judiciary\n\nKim McManus\, L
 egislative Attorney\, Department of State's Attorneys and Sheriffs - Roo
 m 30
TZID:America/New_York
UID:20260121T210045Z-uidGen@richgoldman-357e73
END:VEVENT
BEGIN:VALARM
TRIGGER:-PT15M
ACTION:DISPLAY
DESCRIPTION:H. 627 - An act relating to crime victims’ rights in forensic
  cases\n\nWitness Testimony\n\nEmilie Perry\, Little Rivers Healthcare\n
 \nMatthew Valerio\, Defender General\, Defender General's Office\n\nJudg
 e Thomas Zonay\, Chief Superior Judge\, Vermont Judiciary\n\nKim McManus
 \, Legislative Attorney\, Department of State's Attorneys and Sheriffs -
  Room 30
END:VALARM
END:VCALENDAR
