BEGIN:VCALENDAR
CALSCALE:GREGORIAN
PRODID:-//Ben Fortuna//iCal4j 1.0//EN
VERSION:2.0
BEGIN:VEVENT
DTSTAMP:20260122T210010Z
DTSTART:20260123T130000
DTEND:20260123T150000
SUMMARY:H. 707 - An act relating to certified public accountant licensure
 \n\nIntroduction and walk-through\n\nRep. Charles Kimbell\, Sponsor\, Ho
 use Committee on Ways and Means\n\nTim Devlin\, Legislative Counsel\, Of
 fice of Legislative Counsel - Room M106
TZID:America/New_York
UID:20260122T210033Z-uidGen@richgoldman-357e73
END:VEVENT
BEGIN:VALARM
TRIGGER:-PT15M
ACTION:DISPLAY
DESCRIPTION:H. 707 - An act relating to certified public accountant licen
 sure\n\nIntroduction and walk-through\n\nRep. Charles Kimbell\, Sponsor\
 , House Committee on Ways and Means\n\nTim Devlin\, Legislative Counsel\
 , Office of Legislative Counsel - Room M106
END:VALARM
END:VCALENDAR
