BEGIN:VCALENDAR
CALSCALE:GREGORIAN
PRODID:-//Ben Fortuna//iCal4j 1.0//EN
VERSION:2.0
BEGIN:VEVENT
DTSTAMP:20260120T150010Z
DTSTART:20260123T130000
DTEND:20260123T150000
SUMMARY:Capital Budget Funding\n\nTentative CDAAC - Room 7
TZID:America/New_York
UID:20260120T150132Z-uidGen@richgoldman-357e73
END:VEVENT
BEGIN:VALARM
TRIGGER:-PT15M
ACTION:DISPLAY
DESCRIPTION:Capital Budget Funding\n\nTentative CDAAC - Room 7
END:VALARM
END:VCALENDAR
