BEGIN:VCALENDAR
CALSCALE:GREGORIAN
PRODID:-//Ben Fortuna//iCal4j 1.0//EN
VERSION:2.0
BEGIN:VEVENT
DTSTAMP:20260120T200010Z
DTSTART:20260123T131500
DTEND:20260123T151500
SUMMARY:School District Mapping\n\nJamie Kinnarney\, Superintendent\, Whi
 te River Valley Supervisory Union\n\nLayne Millington\, Superintendent\,
  Two Rivers Supervisory Union\n\nMichael Leichliter\, Superintendent\, H
 arwood Unified Union School District - Invited - Room 28
TZID:America/New_York
UID:20260120T200109Z-uidGen@richgoldman-357e73
END:VEVENT
BEGIN:VALARM
TRIGGER:-PT15M
ACTION:DISPLAY
DESCRIPTION:School District Mapping\n\nJamie Kinnarney\, Superintendent\,
  White River Valley Supervisory Union\n\nLayne Millington\, Superintende
 nt\, Two Rivers Supervisory Union\n\nMichael Leichliter\, Superintendent
 \, Harwood Unified Union School District - Invited - Room 28
END:VALARM
END:VCALENDAR
