BEGIN:VCALENDAR
CALSCALE:GREGORIAN
PRODID:-//Ben Fortuna//iCal4j 1.0//EN
VERSION:2.0
BEGIN:VEVENT
DTSTAMP:20260123T200009Z
DTSTART:20260123T132500
DTEND:20260123T152500
SUMMARY:FY26 Budget Adjustment Act\n\nPILOT Special Fund\n\nChris Rupe\, 
 Associate Fiscal Officer\, Joint Fiscal Office - Room 9
TZID:America/New_York
UID:20260123T200023Z-uidGen@richgoldman-357e73
END:VEVENT
BEGIN:VALARM
TRIGGER:-PT15M
ACTION:DISPLAY
DESCRIPTION:FY26 Budget Adjustment Act\n\nPILOT Special Fund\n\nChris Rup
 e\, Associate Fiscal Officer\, Joint Fiscal Office - Room 9
END:VALARM
END:VCALENDAR
