BEGIN:VCALENDAR
CALSCALE:GREGORIAN
PRODID:-//Ben Fortuna//iCal4j 1.0//EN
VERSION:2.0
BEGIN:VEVENT
DTSTAMP:20260123T200009Z
DTSTART:20260123T131000
DTEND:20260123T151000
SUMMARY:Budget Adjustment Act\n\nVermont Veterans' Home\n\nMelissa Jackso
 n\, Chief Executive Officer\, Vermont Veterans' Home\n\nSteve McClaffert
 y\, Finance Director\, Vermont Veterans' Home\n\nGary DeGasta\, Presiden
 t of the Board of Trustees\, Vermont Veterans' Home - Room 5
TZID:America/New_York
UID:20260123T200018Z-uidGen@richgoldman-357e73
END:VEVENT
BEGIN:VALARM
TRIGGER:-PT15M
ACTION:DISPLAY
DESCRIPTION:Budget Adjustment Act\n\nVermont Veterans' Home\n\nMelissa Ja
 ckson\, Chief Executive Officer\, Vermont Veterans' Home\n\nSteve McClaf
 ferty\, Finance Director\, Vermont Veterans' Home\n\nGary DeGasta\, Pres
 ident of the Board of Trustees\, Vermont Veterans' Home - Room 5
END:VALARM
END:VCALENDAR
