BEGIN:VCALENDAR
CALSCALE:GREGORIAN
PRODID:-//Ben Fortuna//iCal4j 1.0//EN
VERSION:2.0
BEGIN:VEVENT
DTSTAMP:20260120T190010Z
DTSTART:20260123T131500
DTEND:20260123T151500
SUMMARY:H. 276 - An act relating to the designation of State wildlands\n\
 nDanielle Fitzko\, Commissioner\, Department of Forests\, Parks and Recr
 eation - Room EA
TZID:America/New_York
UID:20260120T190253Z-uidGen@richgoldman-357e73
END:VEVENT
BEGIN:VALARM
TRIGGER:-PT15M
ACTION:DISPLAY
DESCRIPTION:H. 276 - An act relating to the designation of State wildland
 s\n\nDanielle Fitzko\, Commissioner\, Department of Forests\, Parks and 
 Recreation - Room EA
END:VALARM
END:VCALENDAR
