BEGIN:VCALENDAR
CALSCALE:GREGORIAN
PRODID:-//Ben Fortuna//iCal4j 1.0//EN
VERSION:2.0
BEGIN:VEVENT
DTSTAMP:20260120T000010Z
DTSTART:20260123T131500
DTEND:20260123T151500
SUMMARY:JFO Presentation\n\nReport Tutorials\n\nTed Barnett\, Fiscal Anal
 yst\, Joint Fiscal Office - Room 5
TZID:America/New_York
UID:20260120T000055Z-uidGen@richgoldman-357e73
END:VEVENT
BEGIN:VALARM
TRIGGER:-PT15M
ACTION:DISPLAY
DESCRIPTION:JFO Presentation\n\nReport Tutorials\n\nTed Barnett\, Fiscal 
 Analyst\, Joint Fiscal Office - Room 5
END:VALARM
END:VCALENDAR
