BEGIN:VCALENDAR
CALSCALE:GREGORIAN
PRODID:-//Ben Fortuna//iCal4j 1.0//EN
VERSION:2.0
BEGIN:VEVENT
DTSTAMP:20260123T210011Z
DTSTART:20260123T134500
DTEND:20260123T154500
SUMMARY:FY26 Budget Adjustment Act\n\nPotential HAC proposals\n\nJames Du
 ffy\, Fiscal Analyst\, Joint Fiscal Office\n\nEmily Byrne\, Deputy Fisca
 l Officer\, Joint Fiscal Office\n\nNolan Langweil\, Principal Fiscal Ana
 lyst\, Joint Fiscal Office - Room 9
TZID:America/New_York
UID:20260123T210014Z-uidGen@richgoldman-357e73
END:VEVENT
BEGIN:VALARM
TRIGGER:-PT15M
ACTION:DISPLAY
DESCRIPTION:FY26 Budget Adjustment Act\n\nPotential HAC proposals\n\nJame
 s Duffy\, Fiscal Analyst\, Joint Fiscal Office\n\nEmily Byrne\, Deputy F
 iscal Officer\, Joint Fiscal Office\n\nNolan Langweil\, Principal Fiscal
  Analyst\, Joint Fiscal Office - Room 9
END:VALARM
END:VCALENDAR
