BEGIN:VCALENDAR
CALSCALE:GREGORIAN
PRODID:-//Ben Fortuna//iCal4j 1.0//EN
VERSION:2.0
BEGIN:VEVENT
DTSTAMP:20260123T160011Z
DTSTART:20260123T133000
DTEND:20260123T153000
SUMMARY:H. 665 - An act relating to recording\, indexing\, and the duties
  of town clerks\n\nIntroduction and walk-through\n\nRep. Charles Kimbell
 \, Sponsor\, House Committee on Ways and Means\n\nRep. Michael Marcotte\
 , Sponsor\, House Committee on Commerce and Economic Development\n\nTuck
 er Anderson\, Legislative Counsel\, Office of Legislative Counsel - Room
  M106
TZID:America/New_York
UID:20260123T160048Z-uidGen@richgoldman-357e73
END:VEVENT
BEGIN:VALARM
TRIGGER:-PT15M
ACTION:DISPLAY
DESCRIPTION:H. 665 - An act relating to recording\, indexing\, and the du
 ties of town clerks\n\nIntroduction and walk-through\n\nRep. Charles Kim
 bell\, Sponsor\, House Committee on Ways and Means\n\nRep. Michael Marco
 tte\, Sponsor\, House Committee on Commerce and Economic Development\n\n
 Tucker Anderson\, Legislative Counsel\, Office of Legislative Counsel - 
 Room M106
END:VALARM
END:VCALENDAR
