BEGIN:VCALENDAR
CALSCALE:GREGORIAN
PRODID:-//Ben Fortuna//iCal4j 1.0//EN
VERSION:2.0
BEGIN:VEVENT
DTSTAMP:20260121T150010Z
DTSTART:20260123T140000
DTEND:20260123T160000
SUMMARY:TBD\n\nDavid Kapplan\, Vermont Association of Nurse Anesthetists\
 n\nTenylle Critchlow\, Vermont Association of Nurse Anesthetists - Room 
 42
TZID:America/New_York
UID:20260121T150148Z-uidGen@richgoldman-357e73
END:VEVENT
BEGIN:VALARM
TRIGGER:-PT15M
ACTION:DISPLAY
DESCRIPTION:TBD\n\nDavid Kapplan\, Vermont Association of Nurse Anestheti
 sts\n\nTenylle Critchlow\, Vermont Association of Nurse Anesthetists - R
 oom 42
END:VALARM
END:VCALENDAR
