BEGIN:VCALENDAR
CALSCALE:GREGORIAN
PRODID:-//Ben Fortuna//iCal4j 1.0//EN
VERSION:2.0
BEGIN:VEVENT
DTSTAMP:20260121T170010Z
DTSTART:20260123T140000
DTEND:20260123T160000
SUMMARY:Introduction to Nurse Anesthetists\n\nDavid Kapplan\, Vermont Ass
 ociation of Nurse Anesthetists\n\nTenylle Critchlow\, Vermont Associatio
 n of Nurse Anesthetists - Room 42
TZID:America/New_York
UID:20260121T170054Z-uidGen@richgoldman-357e73
END:VEVENT
BEGIN:VALARM
TRIGGER:-PT15M
ACTION:DISPLAY
DESCRIPTION:Introduction to Nurse Anesthetists\n\nDavid Kapplan\, Vermont
  Association of Nurse Anesthetists\n\nTenylle Critchlow\, Vermont Associ
 ation of Nurse Anesthetists - Room 42
END:VALARM
END:VCALENDAR
