BEGIN:VCALENDAR
CALSCALE:GREGORIAN
PRODID:-//Ben Fortuna//iCal4j 1.0//EN
VERSION:2.0
BEGIN:VEVENT
DTSTAMP:20260123T200009Z
DTSTART:20260123T140000
DTEND:20260123T160000
SUMMARY:S. 276 - An act relating to requiring municipalities to hold a vo
 te concerning the operation of cannabis establishments\n\nWalk-through\n
 \nSen. Rebecca "Becca" White\, Sponsor\n\nTucker Anderson\, Legislative 
 Counsel\, Office of Legislative Counsel\n\nKyle Harris\, Board Member\, 
 Cannabis Control Board - Room 4
TZID:America/New_York
UID:20260123T200032Z-uidGen@richgoldman-357e73
END:VEVENT
BEGIN:VALARM
TRIGGER:-PT15M
ACTION:DISPLAY
DESCRIPTION:S. 276 - An act relating to requiring municipalities to hold 
 a vote concerning the operation of cannabis establishments\n\nWalk-throu
 gh\n\nSen. Rebecca "Becca" White\, Sponsor\n\nTucker Anderson\, Legislat
 ive Counsel\, Office of Legislative Counsel\n\nKyle Harris\, Board Membe
 r\, Cannabis Control Board - Room 4
END:VALARM
END:VCALENDAR
