BEGIN:VCALENDAR
CALSCALE:GREGORIAN
PRODID:-//Ben Fortuna//iCal4j 1.0//EN
VERSION:2.0
BEGIN:VEVENT
DTSTAMP:20260121T170010Z
DTSTART:20260123T141500
DTEND:20260123T161500
SUMMARY:Vermont School Board Association\n\nResponse to Agency of Educati
 on mapping update\n\nSue Ceglowski\, Executive Director\, Vermont School
  Boards Association - Room 28
TZID:America/New_York
UID:20260121T170057Z-uidGen@richgoldman-357e73
END:VEVENT
BEGIN:VALARM
TRIGGER:-PT15M
ACTION:DISPLAY
DESCRIPTION:Vermont School Board Association\n\nResponse to Agency of Edu
 cation mapping update\n\nSue Ceglowski\, Executive Director\, Vermont Sc
 hool Boards Association - Room 28
END:VALARM
END:VCALENDAR
