BEGIN:VCALENDAR
CALSCALE:GREGORIAN
PRODID:-//Ben Fortuna//iCal4j 1.0//EN
VERSION:2.0
BEGIN:VEVENT
DTSTAMP:20260122T180011Z
DTSTART:20260123T142000
DTEND:20260123T162000
SUMMARY:Vermont School Board Association\n\nResponse to Agency of Educati
 on mapping update\n\nFlor Diaz Smith\, President\, Vermont School Board 
 Association Board of Directors\n\nMeghan Metzler\, Vice President\, Verm
 ont School Board Association Board of Directors - Room 28
TZID:America/New_York
UID:20260122T180037Z-uidGen@richgoldman-357e73
END:VEVENT
BEGIN:VALARM
TRIGGER:-PT15M
ACTION:DISPLAY
DESCRIPTION:Vermont School Board Association\n\nResponse to Agency of Edu
 cation mapping update\n\nFlor Diaz Smith\, President\, Vermont School Bo
 ard Association Board of Directors\n\nMeghan Metzler\, Vice President\, 
 Vermont School Board Association Board of Directors - Room 28
END:VALARM
END:VCALENDAR
