BEGIN:VCALENDAR
CALSCALE:GREGORIAN
PRODID:-//Ben Fortuna//iCal4j 1.0//EN
VERSION:2.0
BEGIN:VEVENT
DTSTAMP:20260121T170010Z
DTSTART:20260123T143000
DTEND:20260123T163000
SUMMARY:H. 583 - An act relating to health care financial transactions an
 d clinical decision making\n\nTestimony\n\nHunter Young\, Head of State 
 Government Relations\, ATA Action - Zoom\n\nTodd Daloz\, Director of Pol
 icy and Legislative Affairs\, Attorney General's Office - Invited - Room
  42
TZID:America/New_York
UID:20260121T170058Z-uidGen@richgoldman-357e73
END:VEVENT
BEGIN:VALARM
TRIGGER:-PT15M
ACTION:DISPLAY
DESCRIPTION:H. 583 - An act relating to health care financial transaction
 s and clinical decision making\n\nTestimony\n\nHunter Young\, Head of St
 ate Government Relations\, ATA Action - Zoom\n\nTodd Daloz\, Director of
  Policy and Legislative Affairs\, Attorney General's Office - Invited - 
 Room 42
END:VALARM
END:VCALENDAR
