BEGIN:VCALENDAR
CALSCALE:GREGORIAN
PRODID:-//Ben Fortuna//iCal4j 1.0//EN
VERSION:2.0
BEGIN:VEVENT
DTSTAMP:20260123T210011Z
DTSTART:20260123T150000
DTEND:20260123T170000
SUMMARY:H. 583 - An act relating to health care financial transactions an
 d clinical decision making\n\nTestimony\n\nHunter Young\, Head of State 
 Government Relations\, ATA Action - Zoom\n\nSam Peisch\, Health Policy A
 nalyst\, Vermont Legal Aid - Room 42
TZID:America/New_York
UID:20260123T210021Z-uidGen@richgoldman-357e73
END:VEVENT
BEGIN:VALARM
TRIGGER:-PT15M
ACTION:DISPLAY
DESCRIPTION:H. 583 - An act relating to health care financial transaction
 s and clinical decision making\n\nTestimony\n\nHunter Young\, Head of St
 ate Government Relations\, ATA Action - Zoom\n\nSam Peisch\, Health Poli
 cy Analyst\, Vermont Legal Aid - Room 42
END:VALARM
END:VCALENDAR
