BEGIN:VCALENDAR
CALSCALE:GREGORIAN
PRODID:-//Ben Fortuna//iCal4j 1.0//EN
VERSION:2.0
BEGIN:VEVENT
DTSTAMP:20260123T150028Z
DTSTART:20260123T150000
DTEND:20260123T170000
SUMMARY:Adjourn - Room 4
TZID:America/New_York
UID:20260123T150047Z-uidGen@richgoldman-357e73
END:VEVENT
BEGIN:VALARM
TRIGGER:-PT15M
ACTION:DISPLAY
DESCRIPTION:Adjourn - Room 4
END:VALARM
END:VCALENDAR
