BEGIN:VCALENDAR
CALSCALE:GREGORIAN
PRODID:-//Ben Fortuna//iCal4j 1.0//EN
VERSION:2.0
BEGIN:VEVENT
DTSTAMP:20260121T220011Z
DTSTART:20260123T150000
DTEND:20260123T170000
SUMMARY:Reports Repeal Survey\n\nTucker Anderson\, Legislative Counsel\, 
 Office of Legislative Counsel - Invited - Room 6
TZID:America/New_York
UID:20260121T220101Z-uidGen@richgoldman-357e73
END:VEVENT
BEGIN:VALARM
TRIGGER:-PT15M
ACTION:DISPLAY
DESCRIPTION:Reports Repeal Survey\n\nTucker Anderson\, Legislative Counse
 l\, Office of Legislative Counsel - Invited - Room 6
END:VALARM
END:VCALENDAR
