BEGIN:VCALENDAR
CALSCALE:GREGORIAN
PRODID:-//Ben Fortuna//iCal4j 1.0//EN
VERSION:2.0
BEGIN:VEVENT
DTSTAMP:20260123T210011Z
DTSTART:20260123T152000
DTEND:20260123T172000
SUMMARY:FY26 Budget Adjustment Act\n\nCommittee discussion - Room 9
TZID:America/New_York
UID:20260123T210028Z-uidGen@richgoldman-357e73
END:VEVENT
BEGIN:VALARM
TRIGGER:-PT15M
ACTION:DISPLAY
DESCRIPTION:FY26 Budget Adjustment Act\n\nCommittee discussion - Room 9
END:VALARM
END:VCALENDAR
