BEGIN:VCALENDAR
CALSCALE:GREGORIAN
PRODID:-//Ben Fortuna//iCal4j 1.0//EN
VERSION:2.0
BEGIN:VEVENT
DTSTAMP:20260122T210010Z
DTSTART:20260123T151500
DTEND:20260123T171500
SUMMARY:S. 274 - An act relating to the sales and use tax exemption for f
 uel used in a residence for domestic use\n\nIntroduction and walk-throug
 h\n\nSen. Anne Watson\, Sponsor - Invited\n\nKirby Keeton\, Legislative 
 Counsel\, Office of Legislative Counsel - Invited - Room 6
TZID:America/New_York
UID:20260122T210039Z-uidGen@richgoldman-357e73
END:VEVENT
BEGIN:VALARM
TRIGGER:-PT15M
ACTION:DISPLAY
DESCRIPTION:S. 274 - An act relating to the sales and use tax exemption f
 or fuel used in a residence for domestic use\n\nIntroduction and walk-th
 rough\n\nSen. Anne Watson\, Sponsor - Invited\n\nKirby Keeton\, Legislat
 ive Counsel\, Office of Legislative Counsel - Invited - Room 6
END:VALARM
END:VCALENDAR
