BEGIN:VCALENDAR
CALSCALE:GREGORIAN
PRODID:-//Ben Fortuna//iCal4j 1.0//EN
VERSION:2.0
BEGIN:VEVENT
DTSTAMP:20260123T210011Z
DTSTART:20260123T154500
DTEND:20260123T174500
SUMMARY:Adjourn - Room 6
TZID:America/New_York
UID:20260123T210035Z-uidGen@richgoldman-357e73
END:VEVENT
BEGIN:VALARM
TRIGGER:-PT15M
ACTION:DISPLAY
DESCRIPTION:Adjourn - Room 6
END:VALARM
END:VCALENDAR
