BEGIN:VCALENDAR
CALSCALE:GREGORIAN
PRODID:-//Ben Fortuna//iCal4j 1.0//EN
VERSION:2.0
BEGIN:VEVENT
DTSTAMP:20260123T220010Z
DTSTART:20260123T161500
DTEND:20260123T181500
SUMMARY:FY26 Budget Adjustment Act\n\nLanguage walk-through and straw pol
 l\n\nGrady Nixon\, Fiscal Editor\, Joint Fiscal Office - Room 9
TZID:America/New_York
UID:20260123T220019Z-uidGen@richgoldman-357e73
END:VEVENT
BEGIN:VALARM
TRIGGER:-PT15M
ACTION:DISPLAY
DESCRIPTION:FY26 Budget Adjustment Act\n\nLanguage walk-through and straw
  poll\n\nGrady Nixon\, Fiscal Editor\, Joint Fiscal Office - Room 9
END:VALARM
END:VCALENDAR
