BEGIN:VCALENDAR
CALSCALE:GREGORIAN
PRODID:-//Ben Fortuna//iCal4j 1.0//EN
VERSION:2.0
BEGIN:VEVENT
DTSTAMP:20260123T220010Z
DTSTART:20260123T163000
DTEND:20260123T183000
SUMMARY:Adjourn - Room 9
TZID:America/New_York
UID:20260123T220021Z-uidGen@richgoldman-357e73
END:VEVENT
BEGIN:VALARM
TRIGGER:-PT15M
ACTION:DISPLAY
DESCRIPTION:Adjourn - Room 9
END:VALARM
END:VCALENDAR
