BEGIN:VCALENDAR
CALSCALE:GREGORIAN
PRODID:-//Ben Fortuna//iCal4j 1.0//EN
VERSION:2.0
BEGIN:VEVENT
DTSTAMP:20260126T190012Z
DTSTART:20260126T130500
DTEND:20260126T150500
SUMMARY:FY26 Budget Adjustment Act\n\nCommittee discussion\n\nEmily Byrne
 \, Deputy Fiscal Officer\, Joint Fiscal Office\n\nJames Duffy\, Fiscal A
 nalyst\, Joint Fiscal Office\n\nGrady Nixon\, Fiscal Editor\, Joint Fisc
 al Office - Room 9
TZID:America/New_York
UID:20260126T190013Z-uidGen@richgoldman-357e73
END:VEVENT
BEGIN:VALARM
TRIGGER:-PT15M
ACTION:DISPLAY
DESCRIPTION:FY26 Budget Adjustment Act\n\nCommittee discussion\n\nEmily B
 yrne\, Deputy Fiscal Officer\, Joint Fiscal Office\n\nJames Duffy\, Fisc
 al Analyst\, Joint Fiscal Office\n\nGrady Nixon\, Fiscal Editor\, Joint 
 Fiscal Office - Room 9
END:VALARM
END:VCALENDAR
