BEGIN:VCALENDAR
CALSCALE:GREGORIAN
PRODID:-//Ben Fortuna//iCal4j 1.0//EN
VERSION:2.0
BEGIN:VEVENT
DTSTAMP:20260126T210017Z
DTSTART:20260126T145000
DTEND:20260126T165000
SUMMARY:FY26 Budget Adjustment Act\n\nCommittee discussion and vote\n\nGr
 ady Nixon\, Fiscal Editor\, Joint Fiscal Office\n\n" - Room 9
TZID:America/New_York
UID:20260126T210017Z-uidGen@richgoldman-357e73
END:VEVENT
BEGIN:VALARM
TRIGGER:-PT15M
ACTION:DISPLAY
DESCRIPTION:FY26 Budget Adjustment Act\n\nCommittee discussion and vote\n
 \nGrady Nixon\, Fiscal Editor\, Joint Fiscal Office\n\n" - Room 9
END:VALARM
END:VCALENDAR
